BEGIN:VCALENDAR
VERSION:2.0
PRODID:-//Bluestone Baptist Church - ECPv6.15.11//NONSGML v1.0//EN
CALSCALE:GREGORIAN
METHOD:PUBLISH
X-ORIGINAL-URL:https://bluestonebaptist.org
X-WR-CALDESC:Events for Bluestone Baptist Church
REFRESH-INTERVAL;VALUE=DURATION:PT1H
X-Robots-Tag:noindex
X-PUBLISHED-TTL:PT1H
BEGIN:VTIMEZONE
TZID:America/New_York
BEGIN:DAYLIGHT
TZOFFSETFROM:-0500
TZOFFSETTO:-0400
TZNAME:EDT
DTSTART:20180311T070000
END:DAYLIGHT
BEGIN:STANDARD
TZOFFSETFROM:-0400
TZOFFSETTO:-0500
TZNAME:EST
DTSTART:20181104T060000
END:STANDARD
BEGIN:DAYLIGHT
TZOFFSETFROM:-0500
TZOFFSETTO:-0400
TZNAME:EDT
DTSTART:20190310T070000
END:DAYLIGHT
BEGIN:STANDARD
TZOFFSETFROM:-0400
TZOFFSETTO:-0500
TZNAME:EST
DTSTART:20191103T060000
END:STANDARD
BEGIN:DAYLIGHT
TZOFFSETFROM:-0500
TZOFFSETTO:-0400
TZNAME:EDT
DTSTART:20200308T070000
END:DAYLIGHT
BEGIN:STANDARD
TZOFFSETFROM:-0400
TZOFFSETTO:-0500
TZNAME:EST
DTSTART:20201101T060000
END:STANDARD
END:VTIMEZONE
BEGIN:VEVENT
DTSTART;TZID=America/New_York:20191222T190000
DTEND;TZID=America/New_York:20191222T200000
DTSTAMP:20260425T170340
CREATED:20181124T184041Z
LAST-MODIFIED:20181124T184041Z
UID:1272-1577041200-1577044800@bluestonebaptist.org
SUMMARY:Christmas Play
DESCRIPTION:
URL:https://bluestonebaptist.org/calendar/christmas-play/
LOCATION:Bluestone Baptist Church
END:VEVENT
BEGIN:VEVENT
DTSTART;TZID=America/New_York:20191222T110000
DTEND;TZID=America/New_York:20191222T120000
DTSTAMP:20260425T170340
CREATED:20181124T184013Z
LAST-MODIFIED:20181124T184013Z
UID:1270-1577012400-1577016000@bluestonebaptist.org
SUMMARY:Christmas Cantata
DESCRIPTION:
URL:https://bluestonebaptist.org/calendar/christmas-cantata/
LOCATION:Bluestone Baptist Church
END:VEVENT
BEGIN:VEVENT
DTSTART;TZID=America/New_York:20191218T190000
DTEND;TZID=America/New_York:20191218T200000
DTSTAMP:20260425T170340
CREATED:20191228T162525Z
LAST-MODIFIED:20191228T162525Z
UID:2114-1576695600-1576699200@bluestonebaptist.org
SUMMARY:Wed. Prayer Service: People of the Book - John the Baptist
DESCRIPTION:We invite you to join us as we gather to pray for our friends\, families\, and communities. After this time of prayer we will continue our study series “People of the Book”. Our topic this week will be John the Baptist. \nScriptures: Various \nSpeaker: Pastor Joshua Winkler \n 
URL:https://bluestonebaptist.org/calendar/wed-prayer-service-people-of-the-book-john-the-baptist/
LOCATION:Bluestone Baptist Church
END:VEVENT
BEGIN:VEVENT
DTSTART;TZID=America/New_York:20191218T180000
DTEND;TZID=America/New_York:20191218T190000
DTSTAMP:20260425T170340
CREATED:20191228T162338Z
LAST-MODIFIED:20191228T162338Z
UID:2112-1576692000-1576695600@bluestonebaptist.org
SUMMARY:Nehemiah Club (TEENS) - Doctrinal Review Cont.
DESCRIPTION:We continue with our doctrinal review.
URL:https://bluestonebaptist.org/calendar/nehemiah-club-teens-doctrinal-review-cont/
LOCATION:Bluestone Baptist Church
END:VEVENT
BEGIN:VEVENT
DTSTART;TZID=America/New_York:20191215T110000
DTEND;TZID=America/New_York:20191215T120000
DTSTAMP:20260425T170340
CREATED:20191211T194429Z
LAST-MODIFIED:20191211T194459Z
UID:2106-1576407600-1576411200@bluestonebaptist.org
SUMMARY:Sunday AM Service: Jesus Christ - Center of Everything?!
DESCRIPTION:We invite you to join us this Sunday morning as we praise the LORD. Following this time of worship we shall discuss why the birth of Jesus is such a big event! \nScriptures: Matthew 1:1 \nSpeaker: Pastor Joshua Winkler
URL:https://bluestonebaptist.org/calendar/sunday-am-service-jesus-christ-center-of-everything/
LOCATION:Bluestone Baptist Church
END:VEVENT
BEGIN:VEVENT
DTSTART;TZID=America/New_York:20191214T180000
DTEND;TZID=America/New_York:20191214T190000
DTSTAMP:20260425T170340
CREATED:20191113T152915Z
LAST-MODIFIED:20191113T153001Z
UID:2024-1576346400-1576350000@bluestonebaptist.org
SUMMARY:Youth Rally! - Bluestone Baptist Church
DESCRIPTION:CALLING ALL YOUTH! It is once again time to gather for our Summers County Youth Rally! We will be enjoying music\, testimonies\, and some good ole fashion preaching from God’s word! Food and Refreshments provided. \nBible Bowl: Philippians 2 \nLocation: Bluestone Baptist Church \n57 Beagle Club Road \nJumping Branch\, WV 25969 \n  \n 
URL:https://bluestonebaptist.org/calendar/youth-rally-bluestone-baptist-church/
LOCATION:Bluestone Baptist Church
END:VEVENT
BEGIN:VEVENT
DTSTART;TZID=America/New_York:20191213T180000
DTEND;TZID=America/New_York:20191213T190000
DTSTAMP:20260425T170340
CREATED:20191113T152536Z
LAST-MODIFIED:20191113T152536Z
UID:2022-1576260000-1576263600@bluestonebaptist.org
SUMMARY:King's Kids!
DESCRIPTION:Kings Kids is a wonderful ministry designed to be a blessing to young children (ages 4-12) in our communities. This ministry is designed to teach children about Jesus Christ\, and the Bible while also teaching social skills through fun and fellowship. \nSchedule of Events:\n6:00pm – Children come into Sanctuary and we have a time of prayer\, sing songs.\n6:10pm – 30 minute Bible lesson via video\, reading\, play\, etc.\n6:40pm – Memory verse of the week / points awarded for knowing last weeks verse\n6:50pm – Kids are fed a snack in the fellowship hall and await parent pickup\n7:00-8:00pm – Parents pickup kids\n*Please inform us any food allergies or other concerns we may need to know about your child.
URL:https://bluestonebaptist.org/calendar/kings-kids-9/
LOCATION:Bluestone Baptist Church
END:VEVENT
BEGIN:VEVENT
DTSTART;TZID=America/New_York:20191211T190000
DTEND;TZID=America/New_York:20191211T200000
DTSTAMP:20260425T170340
CREATED:20191211T193730Z
LAST-MODIFIED:20191211T193730Z
UID:2099-1576090800-1576094400@bluestonebaptist.org
SUMMARY:Wed. Prayer Service: People of the Book - Habakkuk
DESCRIPTION:Join us as we prayer together for our communities and loved ones. After this time of prayer\, we will continue our Bible Study with Habakkuk. \nScriptures: Habakkuk \nSpeaker: Pastor Joshua Winkler
URL:https://bluestonebaptist.org/calendar/wed-prayer-service-people-of-the-book-habakkuk/
LOCATION:Bluestone Baptist Church
END:VEVENT
BEGIN:VEVENT
DTSTART;TZID=America/New_York:20191211T180000
DTEND;TZID=America/New_York:20191211T190000
DTSTAMP:20260425T170340
CREATED:20191211T193937Z
LAST-MODIFIED:20191211T193937Z
UID:2104-1576087200-1576090800@bluestonebaptist.org
SUMMARY:Nehemiah Club (TEENS) - Doctrinal Review
DESCRIPTION:Calling all TEENS! We invite you to join us as we study the word of God. We will meet at the church at 6:00pm on Wednesdays. This week we continue with our end of year Doctrinal Review.
URL:https://bluestonebaptist.org/calendar/nehemiah-club-teens-doctrinal-review-12/
LOCATION:Bluestone Baptist Church
END:VEVENT
BEGIN:VEVENT
DTSTART;TZID=America/New_York:20191211T060000
DTEND;TZID=America/New_York:20191211T183000
DTSTAMP:20260425T170340
CREATED:20191211T193841Z
LAST-MODIFIED:20191211T193841Z
UID:2102-1576044000-1576089000@bluestonebaptist.org
SUMMARY:Intercessory Prayer Meeting
DESCRIPTION:All are invited to join together for this time of prayer. We pray for our Pastor\, Deacons\, and the church body. We pray for God’s will\, discernment\, and blessing on our church family\, nation\, and ministry. We pray for a sweet spirit to be present among the people of God and for his approval in all things. \nAll are invited and encouraged to join with us .
URL:https://bluestonebaptist.org/calendar/intercessory-prayer-meeting-3/
LOCATION:Bluestone Baptist Church
END:VEVENT
BEGIN:VEVENT
DTSTART;TZID=America/New_York:20191208T190000
DTEND;TZID=America/New_York:20191208T200000
DTSTAMP:20260425T170340
CREATED:20191201T123955Z
LAST-MODIFIED:20191201T123955Z
UID:2090-1575831600-1575835200@bluestonebaptist.org
SUMMARY:Sunday PM Service: Preacher Bill Fox
DESCRIPTION:Scriptures: TBS \nSpeaker: Preacher Bill Fox
URL:https://bluestonebaptist.org/calendar/sunday-pm-service-preacher-bill-fox-8/
LOCATION:Bluestone Baptist Church
END:VEVENT
BEGIN:VEVENT
DTSTART;TZID=America/New_York:20191208T110000
DTEND;TZID=America/New_York:20191208T120000
DTSTAMP:20260425T170340
CREATED:20191201T123913Z
LAST-MODIFIED:20191201T123913Z
UID:2088-1575802800-1575806400@bluestonebaptist.org
SUMMARY:Sunday AM Service: Preacher Bill Fox
DESCRIPTION:Scriptures: TBD \nSpeaker: Preacher Bill Fox
URL:https://bluestonebaptist.org/calendar/sunday-am-service-preacher-bill-fox-12/
LOCATION:Bluestone Baptist Church
END:VEVENT
BEGIN:VEVENT
DTSTART;TZID=America/New_York:20191204T190000
DTEND;TZID=America/New_York:20191204T200000
DTSTAMP:20260425T170340
CREATED:20191201T123820Z
LAST-MODIFIED:20191201T123820Z
UID:2086-1575486000-1575489600@bluestonebaptist.org
SUMMARY:Wed. Prayer Service: Brother David Gilbert
DESCRIPTION:Scriptures: TBD \nSpeaker: David Gilbert
URL:https://bluestonebaptist.org/calendar/wed-prayer-service-brother-david-gilbert/
LOCATION:Bluestone Baptist Church
END:VEVENT
BEGIN:VEVENT
DTSTART;TZID=America/New_York:20191201T200000
DTEND;TZID=America/New_York:20191201T201500
DTSTAMP:20260425T170340
CREATED:20191123T190255Z
LAST-MODIFIED:20191123T190255Z
UID:2070-1575230400-1575231300@bluestonebaptist.org
SUMMARY:4th Quarter Communion
DESCRIPTION:Communion Service will be held following the Sunday evening service.
URL:https://bluestonebaptist.org/calendar/4th-quarter-communion/
END:VEVENT
BEGIN:VEVENT
DTSTART;TZID=America/New_York:20191201T190000
DTEND;TZID=America/New_York:20191201T200000
DTSTAMP:20260425T170340
CREATED:20191201T123713Z
LAST-MODIFIED:20191201T123713Z
UID:2084-1575226800-1575230400@bluestonebaptist.org
SUMMARY:Sunday PM Service: God's Plan for Church Growth
DESCRIPTION:We invite you to join us this Sunday evening as we worship the LORD and hear a message about God’s plan for growing his church. \nScriptures: Acts \nSpeaker: Pastor Joshua Winkler
URL:https://bluestonebaptist.org/calendar/sunday-pm-service-gods-plan-for-church-growth/
LOCATION:Bluestone Baptist Church
END:VEVENT
BEGIN:VEVENT
DTSTART;TZID=America/New_York:20191201T170000
DTEND;TZID=America/New_York:20191201T180000
DTSTAMP:20260425T170340
CREATED:20191201T124105Z
LAST-MODIFIED:20191201T124105Z
UID:2092-1575219600-1575223200@bluestonebaptist.org
SUMMARY:Play Practice
DESCRIPTION:Come to play practice and join the fun as we prepare for the Christmas Play 2019!
URL:https://bluestonebaptist.org/calendar/play-practice/
LOCATION:Bluestone Baptist Church
END:VEVENT
BEGIN:VEVENT
DTSTART;TZID=America/New_York:20191201T110000
DTEND;TZID=America/New_York:20191201T120000
DTSTAMP:20260425T170340
CREATED:20191201T123526Z
LAST-MODIFIED:20191201T123526Z
UID:2082-1575198000-1575201600@bluestonebaptist.org
SUMMARY:Sunday AM Service: What We Have To Be Thankful For!
DESCRIPTION:Please join us this Sunday morning as we praise the Lord! The Thanksgiving Holiday was celebrated just a few short days ago. This morning we review some of the many blessing that GOd has given us with thankful hearts. \nScriptures: Various \nSpeaker: Pastor Joshua Winkler
URL:https://bluestonebaptist.org/calendar/sunday-am-service-what-we-have-to-be-thankful-for/
LOCATION:Bluestone Baptist Church
END:VEVENT
BEGIN:VEVENT
DTSTART;TZID=America/New_York:20191127T190000
DTEND;TZID=America/New_York:20191127T200000
DTSTAMP:20260425T170340
CREATED:20191127T202842Z
LAST-MODIFIED:20191127T202842Z
UID:2079-1574881200-1574884800@bluestonebaptist.org
SUMMARY:Wed. Prayer Service: People of the Book - Solomon pt. 2
DESCRIPTION:We invite you to join us as we gather to prayer for our families\, friends\, and communities. Following this time of prayer\, we will continue our study on People of the Book. Our topic tonight will be Solomon! \nScriptures: 1 Kings \nSpeaker: Pastor Joshua Winkler
URL:https://bluestonebaptist.org/calendar/wed-prayer-service-people-of-the-book-solomon-pt-2/
LOCATION:Bluestone Baptist Church
END:VEVENT
BEGIN:VEVENT
DTSTART;TZID=America/New_York:20191127T180000
DTEND;TZID=America/New_York:20191127T190000
DTSTAMP:20260425T170340
CREATED:20191127T202718Z
LAST-MODIFIED:20191127T202718Z
UID:2076-1574877600-1574881200@bluestonebaptist.org
SUMMARY:Nehemiah Club (TEENS) - Doctrinal Review
DESCRIPTION:Calling all TEENS! We invite you to join us as we study the word of God. We will meet at the church at 6:00pm on Wednesdays. This week we continue with our end of year Doctrinal Review.
URL:https://bluestonebaptist.org/calendar/nehemiah-club-teens-doctrinal-review-11/
LOCATION:Bluestone Baptist Church
END:VEVENT
BEGIN:VEVENT
DTSTART;TZID=America/New_York:20191127T180000
DTEND;TZID=America/New_York:20191127T184500
DTSTAMP:20260425T170340
CREATED:20191127T202628Z
LAST-MODIFIED:20191127T202628Z
UID:2074-1574877600-1574880300@bluestonebaptist.org
SUMMARY:Intercessory Prayer Meeting
DESCRIPTION:All are invited to join together for this time of prayer. We pray for our Pastor\, Deacons\, and the church body. We pray for God’s will\, discernment\, and blessing on our church family\, nation\, and ministry. We pray for a sweet spirit to be present among the people of God and for his approval in all things. \nAll are invited and encouraged to join with us .
URL:https://bluestonebaptist.org/calendar/intercessory-prayer-meeting-2/
LOCATION:Bluestone Baptist Church
END:VEVENT
BEGIN:VEVENT
DTSTART;TZID=America/New_York:20191124T190000
DTEND;TZID=America/New_York:20191124T200000
DTSTAMP:20260425T170340
CREATED:20191123T190121Z
LAST-MODIFIED:20191123T190121Z
UID:2068-1574622000-1574625600@bluestonebaptist.org
SUMMARY:Sunday PM Service: Salvation in Philemon
DESCRIPTION:The Book of Philemon contains within it the story of salvation. Join us Sunday evening as we examine the message of God’s word seen in this portion of Scripture. \nScriptures: Philemon \nSpeaker: Pastor Joshua Winkler
URL:https://bluestonebaptist.org/calendar/sunday-pm-service-salvation-in-philemon/
LOCATION:Bluestone Baptist Church
END:VEVENT
BEGIN:VEVENT
DTSTART;TZID=America/New_York:20191124T110000
DTEND;TZID=America/New_York:20191124T120000
DTSTAMP:20260425T170340
CREATED:20191123T185919Z
LAST-MODIFIED:20191123T185919Z
UID:2066-1574593200-1574596800@bluestonebaptist.org
SUMMARY:Sunday AM Service: Jesus Passing By
DESCRIPTION:We invite you to join us this Sunday morning as we gather to praise the LORD. Following this time of worship will be a message about the opportunity we have to come to the Lord which he is yet near. \nScriptures: Luke 18 \nSpeaker: Pastor Joshua Winkler
URL:https://bluestonebaptist.org/calendar/sunday-am-service-jesus-passing-by/
LOCATION:Bluestone Baptist Church
END:VEVENT
BEGIN:VEVENT
DTSTART;TZID=America/New_York:20191120T190000
DTEND;TZID=America/New_York:20191120T200000
DTSTAMP:20260425T170340
CREATED:20191119T181500Z
LAST-MODIFIED:20191119T181500Z
UID:2060-1574276400-1574280000@bluestonebaptist.org
SUMMARY:Wed. Prayer Service: People of the Book - Solomon
DESCRIPTION:We invite you to join us as we gather to prayer for our families\, friends\, and communities. Following this time of prayer\, we will continue our study on People of the Book. Our topic tonight will be Solomon! \nScriptures: 1 Kings \nSpeaker: Pastor Joshua Winkler
URL:https://bluestonebaptist.org/calendar/wed-prayer-service-people-of-the-book-solomon/
LOCATION:Bluestone Baptist Church
END:VEVENT
BEGIN:VEVENT
DTSTART;TZID=America/New_York:20191120T180000
DTEND;TZID=America/New_York:20191120T190000
DTSTAMP:20260425T170340
CREATED:20191119T173813Z
LAST-MODIFIED:20191119T173813Z
UID:2056-1574272800-1574276400@bluestonebaptist.org
SUMMARY:Nehemiah Club (TEENS) - Doctrinal Review
DESCRIPTION:Calling all TEENS! We invite you to join us as we study the word of God. We will meet at the church at 6:00pm on Wednesdays. This week we continue with our end of year Doctrinal Review.
URL:https://bluestonebaptist.org/calendar/nehemiah-club-teens-doctrinal-review-10/
LOCATION:Bluestone Baptist Church
END:VEVENT
BEGIN:VEVENT
DTSTART;TZID=America/New_York:20191120T180000
DTEND;TZID=America/New_York:20191120T184500
DTSTAMP:20260425T170340
CREATED:20191119T174046Z
LAST-MODIFIED:20191119T174046Z
UID:2058-1574272800-1574275500@bluestonebaptist.org
SUMMARY:Intercessory Prayer Meeting
DESCRIPTION:All are invited to join together for this time of prayer. We pray for our Pastor\, Deacons\, and the church body. We pray for God’s will\, discernment\, and blessing on our church family\, nation\, and ministry. We pray for a sweet spirit to be present among the people of God and for his approval in all things. \nAll are invited and encouraged to join with us .
URL:https://bluestonebaptist.org/calendar/intercessory-prayer-meeting/
LOCATION:Bluestone Baptist Church
END:VEVENT
BEGIN:VEVENT
DTSTART;TZID=America/New_York:20191117T190000
DTEND;TZID=America/New_York:20191117T200000
DTSTAMP:20260425T170340
CREATED:20191113T151642Z
LAST-MODIFIED:20191113T151642Z
UID:2017-1574017200-1574020800@bluestonebaptist.org
SUMMARY:Sunday PM Service: Missionary Update - Edwin Garcia
DESCRIPTION:Tonight we will be joined by our brother in Christ and supported missionary to the Philippines\, Edwin Garcia. He will give us an update of the work thus far\, followed by a message from the word.
URL:https://bluestonebaptist.org/calendar/sunday-pm-service-missionary-update-edwin-garcia/
LOCATION:Bluestone Baptist Church
END:VEVENT
BEGIN:VEVENT
DTSTART;TZID=America/New_York:20191117T110000
DTEND;TZID=America/New_York:20191117T120000
DTSTAMP:20260425T170340
CREATED:20191113T151418Z
LAST-MODIFIED:20191113T151418Z
UID:2012-1573988400-1573992000@bluestonebaptist.org
SUMMARY:Sunday AM Service: Salvation is Simple!
DESCRIPTION:The world is constantly trying to make salvation as complex and difficult as it can be by twisting God’s word or adding human requirements. However\, when we look at God’s word we find that salvation is not complex at all\, its actually quite simple. \nScriptures: Various \nSpeaker: Pastor Joshua Winkler
URL:https://bluestonebaptist.org/calendar/sunday-am-service-salvation-is-simple/
LOCATION:Bluestone Baptist Church
END:VEVENT
BEGIN:VEVENT
DTSTART;TZID=America/New_York:20191116T120000
DTEND;TZID=America/New_York:20191116T133000
DTSTAMP:20260425T170340
CREATED:20191113T151903Z
LAST-MODIFIED:20191113T151903Z
UID:2019-1573905600-1573911000@bluestonebaptist.org
SUMMARY:Soul-Winning (Weather Permitting)
DESCRIPTION:Please join us as we go out into our surrounding communities to share the wonderful Gospel of Jesus Christ in fulfillment of the Great Commission (Matt 28:18-20). \n  \nWe will leave from the church at 12:00 and return at 1:30pm – Weather permitting of course)
URL:https://bluestonebaptist.org/calendar/soul-winning-weather-permitting-2/
LOCATION:Bluestone Baptist Church
END:VEVENT
BEGIN:VEVENT
DTSTART;TZID=America/New_York:20191113T190000
DTEND;TZID=America/New_York:20191113T200000
DTSTAMP:20260425T170340
CREATED:20191015T155046Z
LAST-MODIFIED:20191015T155046Z
UID:1972-1573671600-1573675200@bluestonebaptist.org
SUMMARY:Wed. Prayer Service: Deacon Stan Day
DESCRIPTION:We invite you to join us as we gather to pray for our friends\, families\, and communities. Following this time of prayer\, we will continue in our study of God’s word. \nScriptures: TBD \nSpeaker: Deacon Stan Day
URL:https://bluestonebaptist.org/calendar/wed-prayer-service-deacon-stan-day-3/
LOCATION:Bluestone Baptist Church
END:VEVENT
BEGIN:VEVENT
DTSTART;TZID=America/New_York:20191113T180000
DTEND;TZID=America/New_York:20191113T190000
DTSTAMP:20260425T170340
CREATED:20191113T151207Z
LAST-MODIFIED:20191113T151207Z
UID:2010-1573668000-1573671600@bluestonebaptist.org
SUMMARY:Prayer Warrior's Meeting
DESCRIPTION:We invite you to join us as we gather to pray for our church family\, our pastor\, deacons\, and the ministries of the church. In all things we give thanks to God. Won’t you join us as we pray for his blessing and will?
URL:https://bluestonebaptist.org/calendar/prayer-warriors-meeting/
LOCATION:Bluestone Baptist Church
END:VEVENT
END:VCALENDAR