BEGIN:VCALENDAR
VERSION:2.0
PRODID:-//Bluestone Baptist Church - ECPv6.15.11//NONSGML v1.0//EN
CALSCALE:GREGORIAN
METHOD:PUBLISH
X-WR-CALNAME:Bluestone Baptist Church
X-ORIGINAL-URL:https://bluestonebaptist.org
X-WR-CALDESC:Events for Bluestone Baptist Church
REFRESH-INTERVAL;VALUE=DURATION:PT1H
X-Robots-Tag:noindex
X-PUBLISHED-TTL:PT1H
BEGIN:VTIMEZONE
TZID:America/New_York
BEGIN:DAYLIGHT
TZOFFSETFROM:-0500
TZOFFSETTO:-0400
TZNAME:EDT
DTSTART:20190310T070000
END:DAYLIGHT
BEGIN:STANDARD
TZOFFSETFROM:-0400
TZOFFSETTO:-0500
TZNAME:EST
DTSTART:20191103T060000
END:STANDARD
BEGIN:DAYLIGHT
TZOFFSETFROM:-0500
TZOFFSETTO:-0400
TZNAME:EDT
DTSTART:20200308T070000
END:DAYLIGHT
BEGIN:STANDARD
TZOFFSETFROM:-0400
TZOFFSETTO:-0500
TZNAME:EST
DTSTART:20201101T060000
END:STANDARD
BEGIN:DAYLIGHT
TZOFFSETFROM:-0500
TZOFFSETTO:-0400
TZNAME:EDT
DTSTART:20210314T070000
END:DAYLIGHT
BEGIN:STANDARD
TZOFFSETFROM:-0400
TZOFFSETTO:-0500
TZNAME:EST
DTSTART:20211107T060000
END:STANDARD
END:VTIMEZONE
BEGIN:VEVENT
DTSTART;TZID=America/New_York:20200301T110000
DTEND;TZID=America/New_York:20200301T120000
DTSTAMP:20260425T082522
CREATED:20200309T202150Z
LAST-MODIFIED:20200309T202150Z
UID:2203-1583060400-1583064000@bluestonebaptist.org
SUMMARY:Sunday AM Service: Jeremiah 29:11 In Context!
DESCRIPTION:
URL:https://bluestonebaptist.org/calendar/sunday-am-service-jeremiah-2911-in-context/
LOCATION:Bluestone Baptist Church
END:VEVENT
BEGIN:VEVENT
DTSTART;TZID=America/New_York:20200219T190000
DTEND;TZID=America/New_York:20200219T200000
DTSTAMP:20260425T082522
CREATED:20200218T151150Z
LAST-MODIFIED:20200218T152400Z
UID:2196-1582138800-1582142400@bluestonebaptist.org
SUMMARY:Wed. Prayer Service: 1 Thessalonians 4 - Walk to Please God!
DESCRIPTION:We invite you to join us as we pray for our friends\, families\, and communities. Following this time of prayer\, we will continue our study in 1 Thessalonians with chapter 4: Walk to Please God. \nScriptures: 1 Thessalonians 4 \nSpeaker: Pastor Joshua Winkler
URL:https://bluestonebaptist.org/calendar/wed-prayer-service-ephesians-4-unity-in-the-body/
END:VEVENT
BEGIN:VEVENT
DTSTART;TZID=America/New_York:20200219T180000
DTEND;TZID=America/New_York:20200219T190000
DTSTAMP:20260425T082522
CREATED:20200218T150807Z
LAST-MODIFIED:20200218T150823Z
UID:2194-1582135200-1582138800@bluestonebaptist.org
SUMMARY:Nehemiah Club (TEENS) - Hot Topic: Christian Entertainment
DESCRIPTION:Join us as we evaluate entertainment which is deemed appropriate for the “Christian”. What does the Bible tell us to be drawn to\, and to separate from? Is it proper to listen to any genre of music? Is is the sound that matters? the words? What about television? What about attending events? All of this and more will be discussed so don’t miss out!
URL:https://bluestonebaptist.org/calendar/nehemiah-club-teens-hot-topic-christian-entertainment/
LOCATION:Bluestone Baptist Church
END:VEVENT
BEGIN:VEVENT
DTSTART;TZID=America/New_York:20200216T190000
DTEND;TZID=America/New_York:20200216T200000
DTSTAMP:20260425T082522
CREATED:20200218T150323Z
LAST-MODIFIED:20200218T150323Z
UID:2189-1581879600-1581883200@bluestonebaptist.org
SUMMARY:Sunday PM Service: Membership Matters
DESCRIPTION:Scriptures: Various \nSpeaker: Pastor Joshua Winkler
URL:https://bluestonebaptist.org/calendar/sunday-pm-service-membership-matters/
LOCATION:Bluestone Baptist Church
END:VEVENT
BEGIN:VEVENT
DTSTART;TZID=America/New_York:20200216T110000
DTEND;TZID=America/New_York:20200216T120000
DTSTAMP:20260425T082522
CREATED:20200218T150229Z
LAST-MODIFIED:20200218T150229Z
UID:2184-1581850800-1581854400@bluestonebaptist.org
SUMMARY:Sunday AM: Greatest Love of All
DESCRIPTION:Scriptures: 1 John 4:7-8 \nSpeaker: Pastor Joshua Winkler
URL:https://bluestonebaptist.org/calendar/sunday-am-greatest-love-of-all/
LOCATION:Bluestone Baptist Church
END:VEVENT
BEGIN:VEVENT
DTSTART;TZID=America/New_York:20200215T180000
DTEND;TZID=America/New_York:20200215T200000
DTSTAMP:20260425T082522
CREATED:20191228T164617Z
LAST-MODIFIED:20200119T012728Z
UID:2131-1581789600-1581796800@bluestonebaptist.org
SUMMARY:Youth Rally! - Nimitz Missionary Baptist Church
DESCRIPTION:
URL:https://bluestonebaptist.org/calendar/youth-rally-nimitz-missionary-baptist-church/
END:VEVENT
BEGIN:VEVENT
DTSTART;TZID=America/New_York:20200214T180000
DTEND;TZID=America/New_York:20200214T200000
DTSTAMP:20260425T082522
CREATED:20200202T134559Z
LAST-MODIFIED:20200202T134559Z
UID:2177-1581703200-1581710400@bluestonebaptist.org
SUMMARY:Valentine's Dinner
DESCRIPTION:Tonight the men of Bluestone Baptist Church will be providing a wonderful meal for the ladies. All are invited and encouraged to attend. \nMenu: \nLasagna \nGarlic Bread \nChili \nVegtable Soup \nTwice-Baked Potatoes \nAssorted Refreshments
URL:https://bluestonebaptist.org/calendar/valentines-dinner/
LOCATION:Bluestone Baptist Church
END:VEVENT
BEGIN:VEVENT
DTSTART;TZID=America/New_York:20200212T190000
DTEND;TZID=America/New_York:20200212T200000
DTSTAMP:20260425T082522
CREATED:20200202T134328Z
LAST-MODIFIED:20200202T134328Z
UID:2175-1581534000-1581537600@bluestonebaptist.org
SUMMARY:Missionary Visit: Brian's Safehouse
DESCRIPTION:
URL:https://bluestonebaptist.org/calendar/missionary-visit-brians-safehouse/
LOCATION:Bluestone Baptist Church
END:VEVENT
BEGIN:VEVENT
DTSTART;TZID=America/New_York:20200212T180000
DTEND;TZID=America/New_York:20200212T190000
DTSTAMP:20260425T082522
CREATED:20200202T134731Z
LAST-MODIFIED:20200202T134815Z
UID:2179-1581530400-1581534000@bluestonebaptist.org
SUMMARY:Nehemiah Club (TEENS): Denominations of Christianity & Their Differences
DESCRIPTION:
URL:https://bluestonebaptist.org/calendar/nehemiah-club-teens-denominations-of-christianity-their-differences/
LOCATION:Bluestone Baptist Church
END:VEVENT
BEGIN:VEVENT
DTSTART;TZID=America/New_York:20200209T190000
DTEND;TZID=America/New_York:20200209T200000
DTSTAMP:20260425T082522
CREATED:20200202T134238Z
LAST-MODIFIED:20200202T134238Z
UID:2173-1581274800-1581278400@bluestonebaptist.org
SUMMARY:Sunday PM Service: Dr. Stan Day
DESCRIPTION:Scriptures: TBD \nSpeaker: Dr. Stan Day
URL:https://bluestonebaptist.org/calendar/sunday-pm-service-dr-stan-day/
LOCATION:Bluestone Baptist Church
END:VEVENT
BEGIN:VEVENT
DTSTART;TZID=America/New_York:20200209T110000
DTEND;TZID=America/New_York:20200209T120000
DTSTAMP:20260425T082522
CREATED:20200202T134152Z
LAST-MODIFIED:20200202T134152Z
UID:2168-1581246000-1581249600@bluestonebaptist.org
SUMMARY:Sunday AM Service: Brother Rick Newsome
DESCRIPTION:Scriptures: TBD \nSpeaker: Brother Rick Newsome
URL:https://bluestonebaptist.org/calendar/sunday-am-service-brother-rick-newsome-5/
LOCATION:Bluestone Baptist Church
END:VEVENT
BEGIN:VEVENT
DTSTART;TZID=America/New_York:20200205T180000
DTEND;TZID=America/New_York:20200205T190000
DTSTAMP:20260425T082522
CREATED:20200202T134912Z
LAST-MODIFIED:20200202T134912Z
UID:2181-1580925600-1580929200@bluestonebaptist.org
SUMMARY:Nehemiah Club (TEENS): Denominations of Christianity & Their Differences
DESCRIPTION:
URL:https://bluestonebaptist.org/calendar/nehemiah-club-teens-denominations-of-christianity-their-differences-2/
LOCATION:Bluestone Baptist Church
END:VEVENT
BEGIN:VEVENT
DTSTART;TZID=America/New_York:20200202T190000
DTEND;TZID=America/New_York:20200202T200000
DTSTAMP:20260425T082522
CREATED:20200202T134041Z
LAST-MODIFIED:20200202T134041Z
UID:2166-1580670000-1580673600@bluestonebaptist.org
SUMMARY:Sunday PM: Christian Character
DESCRIPTION:We invite you to join us Sunday morning as we gather to worship the LORD! After this time of worship will be a message which focuses on the expected character of Christians and the church. \nScriptures: 1-2 Thessalonians \nSpeaker: Pastor Joshua Winkler
URL:https://bluestonebaptist.org/calendar/sunday-pm-christian-character/
LOCATION:Bluestone Baptist Church
END:VEVENT
BEGIN:VEVENT
DTSTART;TZID=America/New_York:20200202T110000
DTEND;TZID=America/New_York:20200202T120000
DTSTAMP:20260425T082522
CREATED:20200202T133727Z
LAST-MODIFIED:20200202T133727Z
UID:2164-1580641200-1580644800@bluestonebaptist.org
SUMMARY:Sunday AM: God's Greater Sacrifice
DESCRIPTION:We invite you to join us Sunday morning as we gather to worship the LORD! After this time of worship will be an uplifting message concerning God’s great sacrifice! \nScriptures: Hebrews 10:1-25 \nSpeaker: Pastor Joshua Winkler
URL:https://bluestonebaptist.org/calendar/sunday-am-gods-greater-sacrifice/
LOCATION:Bluestone Baptist Church
END:VEVENT
BEGIN:VEVENT
DTSTART;TZID=America/New_York:20200125T083000
DTEND;TZID=America/New_York:20200125T100000
DTSTAMP:20260425T082522
CREATED:20191228T164356Z
LAST-MODIFIED:20191228T164356Z
UID:2129-1579941000-1579946400@bluestonebaptist.org
SUMMARY:Men's Fellowship & Prayer Breakfast
DESCRIPTION:  \nScriptures: TBD \nSpeaker: TBD
URL:https://bluestonebaptist.org/calendar/mens-fellowship-prayer-breakfast-10/
LOCATION:Bluestone Baptist Church
END:VEVENT
BEGIN:VEVENT
DTSTART;TZID=America/New_York:20200122T180000
DTEND;TZID=America/New_York:20200122T190000
DTSTAMP:20260425T082522
CREATED:20200119T013039Z
LAST-MODIFIED:20200119T013039Z
UID:2154-1579716000-1579719600@bluestonebaptist.org
SUMMARY:Nehemiah Club (TEENS): Doctrinal Review Cont.
DESCRIPTION:
URL:https://bluestonebaptist.org/calendar/nehemiah-club-teens-doctrinal-review-cont-5/
LOCATION:Bluestone Baptist Church
END:VEVENT
BEGIN:VEVENT
DTSTART;TZID=America/New_York:20200119T190000
DTEND;TZID=America/New_York:20200119T200000
DTSTAMP:20260425T082522
CREATED:20200119T013413Z
LAST-MODIFIED:20200119T013413Z
UID:2158-1579460400-1579464000@bluestonebaptist.org
SUMMARY:Sunday PM Service: Upon the Cross
DESCRIPTION:We invite you to join us this Sunday evening as we praise the LORD! After this time of praise will be a message concerning how the cross lifts us from the concerns of this world and into the joys of God’s presence. \nScriptures: Various \nSpeaker: Pastor Joshua Winkler
URL:https://bluestonebaptist.org/calendar/sunday-pm-service-upon-the-cross/
LOCATION:Bluestone Baptist Church
END:VEVENT
BEGIN:VEVENT
DTSTART;TZID=America/New_York:20200119T110000
DTEND;TZID=America/New_York:20200119T120000
DTSTAMP:20260425T082522
CREATED:20200119T013233Z
LAST-MODIFIED:20200119T013233Z
UID:2156-1579431600-1579435200@bluestonebaptist.org
SUMMARY:Sunday AM Service: God of All Comfort
DESCRIPTION:We invite you to join us Sunday morning as we gather to worship the LORD! After this time of worship will be an uplifting message of comfort which the believe finds in Christ. \nScriptures: 2 Corinthians 1:1-11 \nSpeaker: Pastor Joshua Winkler
URL:https://bluestonebaptist.org/calendar/sunday-am-service-god-of-all-comfort/
LOCATION:Bluestone Baptist Church
END:VEVENT
BEGIN:VEVENT
DTSTART;TZID=America/New_York:20200115T190000
DTEND;TZID=America/New_York:20200115T200000
DTSTAMP:20260425T082522
CREATED:20200119T012934Z
LAST-MODIFIED:20200119T012934Z
UID:2149-1579114800-1579118400@bluestonebaptist.org
SUMMARY:Wed. Prayer Service: Paul's Prayer - Ephesians 3 pt. 2
DESCRIPTION:We invite you to join us this Wednesday evening as we gather to pray for our church\, families\, friends\, and communities. After this time of prayer we will continue our study into Paul’s letter to the Ephesians. \nScriptures: Ephesians 3 \nSpeaker: Pastor Joshua Winkler
URL:https://bluestonebaptist.org/calendar/wed-prayer-service-pauls-prayer-ephesians-3-pt-2/
LOCATION:Bluestone Baptist Church
END:VEVENT
BEGIN:VEVENT
DTSTART;TZID=America/New_York:20200115T180000
DTEND;TZID=America/New_York:20200115T190000
DTSTAMP:20260425T082522
CREATED:20200119T013014Z
LAST-MODIFIED:20200119T013014Z
UID:2152-1579111200-1579114800@bluestonebaptist.org
SUMMARY:Nehemiah Club (TEENS): Doctrinal Review Cont.
DESCRIPTION:
URL:https://bluestonebaptist.org/calendar/nehemiah-club-teens-doctrinal-review-cont-4/
LOCATION:Bluestone Baptist Church
END:VEVENT
BEGIN:VEVENT
DTSTART;TZID=America/New_York:20200112T190000
DTEND;TZID=America/New_York:20200112T200000
DTSTAMP:20260425T082522
CREATED:20200109T144405Z
LAST-MODIFIED:20200109T144405Z
UID:2142-1578855600-1578859200@bluestonebaptist.org
SUMMARY:Sunday PM Service: Brother David Gilbert
DESCRIPTION:We invite you to join us as we study Gods word and praise his holy name! \nScriptures: TBD \nSpeaker: Brother David Gilbert
URL:https://bluestonebaptist.org/calendar/sunday-pm-service-brother-david-gilbert-2/
LOCATION:Bluestone Baptist Church
END:VEVENT
BEGIN:VEVENT
DTSTART;TZID=America/New_York:20200112T110000
DTEND;TZID=America/New_York:20200112T120000
DTSTAMP:20260425T082522
CREATED:20200109T144255Z
LAST-MODIFIED:20200109T144255Z
UID:2140-1578826800-1578830400@bluestonebaptist.org
SUMMARY:Sunday AM Service: Deacon Stan Day
DESCRIPTION:We hope you will join us as we worship the LORD! Following this time of worship will be a message from Stan Day. \nScriptures: TBD \nSpeaker: Stan Day
URL:https://bluestonebaptist.org/calendar/sunday-am-service-deacon-stan-day-2/
LOCATION:Bluestone Baptist Church
END:VEVENT
BEGIN:VEVENT
DTSTART;TZID=America/New_York:20200108T190000
DTEND;TZID=America/New_York:20200108T200000
DTSTAMP:20260425T082522
CREATED:20200109T144019Z
LAST-MODIFIED:20200109T144019Z
UID:2134-1578510000-1578513600@bluestonebaptist.org
SUMMARY:Wed. Prayer Service: Ephesians 3:1-13
DESCRIPTION:
URL:https://bluestonebaptist.org/calendar/wed-prayer-service-ephesians-31-13/
LOCATION:Bluestone Baptist Church
END:VEVENT
BEGIN:VEVENT
DTSTART;TZID=America/New_York:20200108T180000
DTEND;TZID=America/New_York:20200108T190000
DTSTAMP:20260425T082522
CREATED:20200109T144130Z
LAST-MODIFIED:20200109T144130Z
UID:2138-1578506400-1578510000@bluestonebaptist.org
SUMMARY:Intercessory Prayer Group
DESCRIPTION:
URL:https://bluestonebaptist.org/calendar/intercessory-prayer-group/
LOCATION:Bluestone Baptist Church
END:VEVENT
BEGIN:VEVENT
DTSTART;TZID=America/New_York:20200108T180000
DTEND;TZID=America/New_York:20200108T190000
DTSTAMP:20260425T082522
CREATED:20200109T144101Z
LAST-MODIFIED:20200109T144101Z
UID:2136-1578506400-1578510000@bluestonebaptist.org
SUMMARY:Nehemiah Club (TEENS): Doctrinal Review Cont.
DESCRIPTION:
URL:https://bluestonebaptist.org/calendar/nehemiah-club-teens-doctrinal-review-cont-3/
LOCATION:Bluestone Baptist Church
END:VEVENT
BEGIN:VEVENT
DTSTART;TZID=America/New_York:20200105T190000
DTEND;TZID=America/New_York:20200105T200000
DTSTAMP:20260425T082522
CREATED:20200109T144608Z
LAST-MODIFIED:20200109T144608Z
UID:2146-1578250800-1578254400@bluestonebaptist.org
SUMMARY:Sunday PM Service: Healing Hard Hearts
DESCRIPTION:
URL:https://bluestonebaptist.org/calendar/sunday-pm-service-healing-hard-hearts/
LOCATION:Bluestone Baptist Church
END:VEVENT
BEGIN:VEVENT
DTSTART;TZID=America/New_York:20200105T110000
DTEND;TZID=America/New_York:20200105T120000
DTSTAMP:20260425T082522
CREATED:20200109T144458Z
LAST-MODIFIED:20200109T144458Z
UID:2144-1578222000-1578225600@bluestonebaptist.org
SUMMARY:Sunday AM Service: Cancelled Due to Ice
DESCRIPTION:
URL:https://bluestonebaptist.org/calendar/sunday-am-service-cancelled-due-to-ice/
END:VEVENT
BEGIN:VEVENT
DTSTART;TZID=America/New_York:20200104T120000
DTEND;TZID=America/New_York:20200104T133000
DTSTAMP:20260425T082522
CREATED:20191228T164240Z
LAST-MODIFIED:20191228T164240Z
UID:2127-1578139200-1578144600@bluestonebaptist.org
SUMMARY:Soul Winning
DESCRIPTION:We invite you to join us as we take the Gospel message to our surrounding communities. We start at noon and go to 1:30pm\, all are invited to join us!
URL:https://bluestonebaptist.org/calendar/soul-winning-42/
LOCATION:Bluestone Baptist Church
END:VEVENT
BEGIN:VEVENT
DTSTART;TZID=America/New_York:20200103T180000
DTEND;TZID=America/New_York:20200103T200000
DTSTAMP:20260425T082522
CREATED:20191228T163928Z
LAST-MODIFIED:20191228T163928Z
UID:2125-1578074400-1578081600@bluestonebaptist.org
SUMMARY:King's Kids!
DESCRIPTION:Kings Kids is a wonderful ministry designed to be a blessing to young children (ages 4-12) in our communities. This ministry is designed to teach children about Jesus Christ\, and the Bible while also teaching social skills through fun and fellowship. \nSchedule of Events:\n6:00pm – Children come into Sanctuary and we have a time of prayer\, sing songs.\n6:10pm – 30 minute Bible lesson via video\, reading\, play\, etc.\n6:40pm – Memory verse of the week / points awarded for knowing last weeks verse\n6:50pm – Kids are fed a snack in the fellowship hall and await parent pickup\n7:00-8:00pm – Parents pickup kids\n*Please inform us any food allergies or other concerns we may need to know about your child.
URL:https://bluestonebaptist.org/calendar/kings-kids-10/
END:VEVENT
BEGIN:VEVENT
DTSTART;TZID=America/New_York:20200101T180000
DTEND;TZID=America/New_York:20200101T190000
DTSTAMP:20260425T082522
CREATED:20191228T163723Z
LAST-MODIFIED:20191228T163723Z
UID:2122-1577901600-1577905200@bluestonebaptist.org
SUMMARY:Nehemiah Club (TEENS) - Doctrinal Review Cont.
DESCRIPTION:Our teens ministry continues this week with our Doctrinal Review
URL:https://bluestonebaptist.org/calendar/nehemiah-club-teens-doctrinal-review-cont-2/
LOCATION:Bluestone Baptist Church
END:VEVENT
END:VCALENDAR